BEGIN:VCALENDAR
VERSION:2.0
PRODID:-//Cockermouth Town Council - ECPv6.15.20//NONSGML v1.0//EN
CALSCALE:GREGORIAN
METHOD:PUBLISH
X-WR-CALNAME:Cockermouth Town Council
X-ORIGINAL-URL:https://cockermouth.org
X-WR-CALDESC:Events for Cockermouth Town Council
REFRESH-INTERVAL;VALUE=DURATION:PT1H
X-Robots-Tag:noindex
X-PUBLISHED-TTL:PT1H
BEGIN:VTIMEZONE
TZID:Europe/London
BEGIN:DAYLIGHT
TZOFFSETFROM:+0000
TZOFFSETTO:+0100
TZNAME:BST
DTSTART:20250330T010000
END:DAYLIGHT
BEGIN:STANDARD
TZOFFSETFROM:+0100
TZOFFSETTO:+0000
TZNAME:GMT
DTSTART:20251026T010000
END:STANDARD
BEGIN:DAYLIGHT
TZOFFSETFROM:+0000
TZOFFSETTO:+0100
TZNAME:BST
DTSTART:20260329T010000
END:DAYLIGHT
BEGIN:STANDARD
TZOFFSETFROM:+0100
TZOFFSETTO:+0000
TZNAME:GMT
DTSTART:20261025T010000
END:STANDARD
BEGIN:DAYLIGHT
TZOFFSETFROM:+0000
TZOFFSETTO:+0100
TZNAME:BST
DTSTART:20270328T010000
END:DAYLIGHT
BEGIN:STANDARD
TZOFFSETFROM:+0100
TZOFFSETTO:+0000
TZNAME:GMT
DTSTART:20271031T010000
END:STANDARD
END:VTIMEZONE
BEGIN:VEVENT
DTSTART;TZID=Europe/London:20260620T110000
DTEND;TZID=Europe/London:20260620T170000
DTSTAMP:20260422T112423
CREATED:20260209T153023Z
LAST-MODIFIED:20260209T155128Z
UID:14391-1781953200-1781974800@cockermouth.org
SUMMARY:Family Fun Day and Dog Show 2026
DESCRIPTION:
URL:https://cockermouth.org/events/family-fun-day-and-dog-show-2026/
LOCATION:Memorial Gardens Cockermouth\, Memorial Gardens\, Cockermouth\, Cumbria\, CA13 0HR\, United Kingdom
ATTACH;FMTTYPE=image/jpeg:https://cockermouth.org/wp-content/uploads/2018/09/MemorialGardens.jpg
ORGANIZER;CN="Cockermouth Town Council":MAILTO:admin@cockermouth.org
END:VEVENT
BEGIN:VEVENT
DTSTART;TZID=Europe/London:20261101T170000
DTEND;TZID=Europe/London:20261101T190000
DTSTAMP:20260422T112423
CREATED:20260209T155705Z
LAST-MODIFIED:20260209T155705Z
UID:14399-1793552400-1793559600@cockermouth.org
SUMMARY:Cockermouth Annual Fireworks Display 2026
DESCRIPTION:
URL:https://cockermouth.org/events/cockermouth-annual-fireworks-display-2026/
LOCATION:Memorial Gardens Cockermouth\, Memorial Gardens\, Cockermouth\, Cumbria\, CA13 0HR\, United Kingdom
ATTACH;FMTTYPE=image/jpeg:https://cockermouth.org/wp-content/uploads/2026/02/fireworks.jpg
ORGANIZER;CN="Cockermouth Town Council":MAILTO:admin@cockermouth.org
END:VEVENT
BEGIN:VEVENT
DTSTART;TZID=Europe/London:20261108T124500
DTEND;TZID=Europe/London:20261108T144500
DTSTAMP:20260422T112423
CREATED:20260209T155959Z
LAST-MODIFIED:20260209T155959Z
UID:14402-1794141900-1794149100@cockermouth.org
SUMMARY:Remembrance Sunday 2026
DESCRIPTION:
URL:https://cockermouth.org/events/remembrance-sunday-2026/
LOCATION:Cumbria
ATTACH;FMTTYPE=image/jpeg:https://cockermouth.org/wp-content/uploads/2026/02/cenotaph.jpg
ORGANIZER;CN="Cockermouth Town Council":MAILTO:admin@cockermouth.org
END:VEVENT
BEGIN:VEVENT
DTSTART;TZID=Europe/London:20261122T133000
DTEND;TZID=Europe/London:20261122T173000
DTSTAMP:20260422T112423
CREATED:20260209T160155Z
LAST-MODIFIED:20260209T160155Z
UID:14405-1795354200-1795368600@cockermouth.org
SUMMARY:Cockermouth Christmas Light Switch On 2026
DESCRIPTION:
URL:https://cockermouth.org/events/cockermouth-christmas-light-switch-on-2026/
LOCATION:Cockermouth Main Street\, Main Street\, Cockermouth\, Cumbria\, CA13 9LU\, United Kingdom
ATTACH;FMTTYPE=image/jpeg:https://cockermouth.org/wp-content/uploads/2026/02/11111.jpg
ORGANIZER;CN="Cockermouth Town Council":MAILTO:admin@cockermouth.org
END:VEVENT
END:VCALENDAR